BEGIN:VCALENDAR
VERSION:2.0
PRODID:-//Fr. Francis Koch Council 6343 - ECPv6.15.20//NONSGML v1.0//EN
CALSCALE:GREGORIAN
METHOD:PUBLISH
X-WR-CALNAME:Fr. Francis Koch Council 6343
X-ORIGINAL-URL:https://kofc6343.org
X-WR-CALDESC:Events for Fr. Francis Koch Council 6343
REFRESH-INTERVAL;VALUE=DURATION:PT1H
X-Robots-Tag:noindex
X-PUBLISHED-TTL:PT1H
BEGIN:VTIMEZONE
TZID:America/New_York
BEGIN:DAYLIGHT
TZOFFSETFROM:-0500
TZOFFSETTO:-0400
TZNAME:EDT
DTSTART:20160313T070000
END:DAYLIGHT
BEGIN:STANDARD
TZOFFSETFROM:-0400
TZOFFSETTO:-0500
TZNAME:EST
DTSTART:20161106T060000
END:STANDARD
BEGIN:DAYLIGHT
TZOFFSETFROM:-0500
TZOFFSETTO:-0400
TZNAME:EDT
DTSTART:20170312T070000
END:DAYLIGHT
BEGIN:STANDARD
TZOFFSETFROM:-0400
TZOFFSETTO:-0500
TZNAME:EST
DTSTART:20171105T060000
END:STANDARD
BEGIN:DAYLIGHT
TZOFFSETFROM:-0500
TZOFFSETTO:-0400
TZNAME:EDT
DTSTART:20180311T070000
END:DAYLIGHT
BEGIN:STANDARD
TZOFFSETFROM:-0400
TZOFFSETTO:-0500
TZNAME:EST
DTSTART:20181104T060000
END:STANDARD
BEGIN:DAYLIGHT
TZOFFSETFROM:-0500
TZOFFSETTO:-0400
TZNAME:EDT
DTSTART:20190310T070000
END:DAYLIGHT
BEGIN:STANDARD
TZOFFSETFROM:-0400
TZOFFSETTO:-0500
TZNAME:EST
DTSTART:20191103T060000
END:STANDARD
END:VTIMEZONE
BEGIN:VEVENT
DTSTART;TZID=America/New_York:20180111T200000
DTEND;TZID=America/New_York:20180111T220000
DTSTAMP:20260425T075230
CREATED:20171227T214931Z
LAST-MODIFIED:20171227T214931Z
UID:1616-1515700800-1515708000@kofc6343.org
SUMMARY:Business Meeting
DESCRIPTION:
URL:https://kofc6343.org/event/business-meeting-21/
LOCATION:Koch Hall\, 454 Germantown Road\, West Milford\, NJ\, 07480\, United States
CATEGORIES:Business Meetings
END:VEVENT
BEGIN:VEVENT
DTSTART;TZID=America/New_York:20180111T193000
DTEND;TZID=America/New_York:20180111T200000
DTSTAMP:20260425T075230
CREATED:20171227T214838Z
LAST-MODIFIED:20171227T214838Z
UID:1614-1515699000-1515700800@kofc6343.org
SUMMARY:Officers Meeting
DESCRIPTION:
URL:https://kofc6343.org/event/officers-meeting-6/
LOCATION:Koch Hall\, 454 Germantown Road\, West Milford\, NJ\, 07480\, United States
CATEGORIES:Officers Meeting
END:VEVENT
BEGIN:VEVENT
DTSTART;TZID=America/New_York:20180108T200000
DTEND;TZID=America/New_York:20180108T220000
DTSTAMP:20260425T075230
CREATED:20180108T151658Z
LAST-MODIFIED:20180108T151658Z
UID:1624-1515441600-1515448800@kofc6343.org
SUMMARY:Fourth Degree Meeting
DESCRIPTION:
URL:https://kofc6343.org/event/fourth-degree-meeting-5-2/
LOCATION:Immaculate Heart of Mary\, 580 Ratzer Road\, Wayne\, NJ\, 07470\, United States
CATEGORIES:Assembly Events
END:VEVENT
BEGIN:VEVENT
DTSTART;VALUE=DATE:20180101
DTEND;VALUE=DATE:20180102
DTSTAMP:20260425T075230
CREATED:20171227T214712Z
LAST-MODIFIED:20171227T214712Z
UID:1612-1514764800-1514851199@kofc6343.org
SUMMARY:New Years Day
DESCRIPTION:
URL:https://kofc6343.org/event/new-years-day-2/
LOCATION:NJ
CATEGORIES:Holidays
END:VEVENT
BEGIN:VEVENT
DTSTART;VALUE=DATE:20171225
DTEND;VALUE=DATE:20171226
DTSTAMP:20260425T075230
CREATED:20171016T205637Z
LAST-MODIFIED:20171016T205637Z
UID:1569-1514160000-1514246399@kofc6343.org
SUMMARY:Christmas Day
DESCRIPTION:
URL:https://kofc6343.org/event/christmas-day-2/
LOCATION:NJ
CATEGORIES:Holidays
END:VEVENT
BEGIN:VEVENT
DTSTART;TZID=America/New_York:20171214T200000
DTEND;TZID=America/New_York:20171214T220000
DTSTAMP:20260425T075230
CREATED:20171016T204920Z
LAST-MODIFIED:20171016T204920Z
UID:1565-1513281600-1513288800@kofc6343.org
SUMMARY:Business Meeting
DESCRIPTION:
URL:https://kofc6343.org/event/business-meeting-20/
LOCATION:Koch Hall\, 454 Germantown Road\, West Milford\, NJ\, 07480\, United States
CATEGORIES:Business Meetings
END:VEVENT
BEGIN:VEVENT
DTSTART;TZID=America/New_York:20171211T200000
DTEND;TZID=America/New_York:20171211T220000
DTSTAMP:20260425T075230
CREATED:20171106T191326Z
LAST-MODIFIED:20171106T191351Z
UID:1598-1513022400-1513029600@kofc6343.org
SUMMARY:Fourth Degree Meeting
DESCRIPTION:
URL:https://kofc6343.org/event/fourth-degree-meeting-5/
LOCATION:Koch Hall\, 454 Germantown Road\, West Milford\, NJ\, 07480\, United States
CATEGORIES:Assembly Events
END:VEVENT
BEGIN:VEVENT
DTSTART;VALUE=DATE:20171211
DTEND;VALUE=DATE:20171212
DTSTAMP:20260425T075230
CREATED:20171028T214651Z
LAST-MODIFIED:20171028T214651Z
UID:1593-1512950400-1513036799@kofc6343.org
SUMMARY:Keep Christ in Christmas Poster Contest (End)
DESCRIPTION:
URL:https://kofc6343.org/event/keep-christ-in-christmas-poster-contest-end-2/
LOCATION:NJ
CATEGORIES:Contests
END:VEVENT
BEGIN:VEVENT
DTSTART;TZID=America/New_York:20171203T073000
DTEND;TZID=America/New_York:20171203T113000
DTSTAMP:20260425T075230
CREATED:20171110T013337Z
LAST-MODIFIED:20171110T013337Z
UID:1600-1512286200-1512300600@kofc6343.org
SUMMARY:Lyons VA Hospital Visit
DESCRIPTION:Meet at Koch Hall at 7:30am.  Will return by 11:30am.
URL:https://kofc6343.org/event/lyons-va-hospital-visit-2/
LOCATION:Koch Hall\, 454 Germantown Road\, West Milford\, NJ\, 07480\, United States
CATEGORIES:Veterans Support
ORGANIZER;CN="Roy DeFranco":MAILTO:rdefranco@yahoo.com
END:VEVENT
BEGIN:VEVENT
DTSTART;TZID=America/New_York:20171202T064500
DTEND;TZID=America/New_York:20171202T100000
DTSTAMP:20260425T075230
CREATED:20171110T013512Z
LAST-MODIFIED:20171110T013512Z
UID:1602-1512197100-1512208800@kofc6343.org
SUMMARY:Antioch Breakfast
DESCRIPTION:Cooking for the Youth Ministry Antioch Breakfast
URL:https://kofc6343.org/event/antioch-breakfast-2/
LOCATION:Parish Center\, 454 Germantown Road\, West Milford\, NJ\, 07480\, United States
CATEGORIES:Parish Events
END:VEVENT
BEGIN:VEVENT
DTSTART;TZID=America/New_York:20171125T090000
DTEND;TZID=America/New_York:20171125T120000
DTSTAMP:20260425T075230
CREATED:20171028T214446Z
LAST-MODIFIED:20171028T214446Z
UID:1589-1511600400-1511611200@kofc6343.org
SUMMARY:St. Nicholas Breakfast
DESCRIPTION:
URL:https://kofc6343.org/event/st-nicholas-breakfast-2/
LOCATION:Parish Center\, 454 Germantown Road\, West Milford\, NJ\, 07480\, United States
CATEGORIES:Parish Events
END:VEVENT
BEGIN:VEVENT
DTSTART;VALUE=DATE:20171125
DTEND;VALUE=DATE:20171126
DTSTAMP:20260425T075230
CREATED:20171028T214554Z
LAST-MODIFIED:20171028T214554Z
UID:1591-1511568000-1511654399@kofc6343.org
SUMMARY:Keep Christ in Christmas Poster Contest (Start)
DESCRIPTION:
URL:https://kofc6343.org/event/keep-christ-in-christmas-poster-contest-start-2/
LOCATION:NJ
CATEGORIES:Contests
END:VEVENT
BEGIN:VEVENT
DTSTART;VALUE=DATE:20171123
DTEND;VALUE=DATE:20171124
DTSTAMP:20260425T075230
CREATED:20171016T204250Z
LAST-MODIFIED:20171016T204250Z
UID:1563-1511395200-1511481599@kofc6343.org
SUMMARY:Thanksgiving
DESCRIPTION:
URL:https://kofc6343.org/event/thanksgiving-2/
LOCATION:NJ
CATEGORIES:Holidays
END:VEVENT
BEGIN:VEVENT
DTSTART;TZID=America/New_York:20171120T180000
DTEND;TZID=America/New_York:20171120T220000
DTSTAMP:20260425T075230
CREATED:20171016T141047Z
LAST-MODIFIED:20171016T204419Z
UID:1544-1511200800-1511215200@kofc6343.org
SUMMARY:Pride in Priests Dinner
DESCRIPTION:Contact John Vigna\, FS at FinancialSecretary@KofC6343.org if you would like to attend or CLICK HERE to register and pay. \n 
URL:https://kofc6343.org/event/pride-in-priests-dinner-2/
LOCATION:The Hanover Manor\, 16 Eagle Rock Avenue\, East Hanover\, NJ\, United States
CATEGORIES:Council Events
ORGANIZER;CN="John Vigna":MAILTO:FinancialSecretary@KofC6343.org
END:VEVENT
BEGIN:VEVENT
DTSTART;TZID=America/New_York:20171119T090000
DTEND;TZID=America/New_York:20171119T100000
DTSTAMP:20260425T075230
CREATED:20171028T214302Z
LAST-MODIFIED:20171028T214302Z
UID:1587-1511082000-1511085600@kofc6343.org
SUMMARY:Deceased Brothers Mass
DESCRIPTION:
URL:https://kofc6343.org/event/deceased-brothers-mass-2/
LOCATION:Church\, 454 Germantown Road\, West Milford\, NJ\, 07480\, United States
CATEGORIES:Council Events
END:VEVENT
BEGIN:VEVENT
DTSTART;TZID=America/New_York:20171118T170000
DTEND;TZID=America/New_York:20171118T180000
DTSTAMP:20260425T075230
CREATED:20171028T214121Z
LAST-MODIFIED:20171028T214121Z
UID:1585-1511024400-1511028000@kofc6343.org
SUMMARY:Fr. Aleks Installation as Pastor
DESCRIPTION:
URL:https://kofc6343.org/event/fr-aleks-installation-as-pastor/
LOCATION:Church\, 454 Germantown Road\, West Milford\, NJ\, 07480\, United States
CATEGORIES:Parish Events
END:VEVENT
BEGIN:VEVENT
DTSTART;TZID=America/New_York:20171118T100000
DTEND;TZID=America/New_York:20171118T110000
DTSTAMP:20260425T075230
CREATED:20171028T212507Z
LAST-MODIFIED:20171028T212507Z
UID:1575-1510999200-1511002800@kofc6343.org
SUMMARY:Respect for Life Mass 2017
DESCRIPTION:For more information\, see flyer:  Respect Life Mass 2017
URL:https://kofc6343.org/event/respect-for-life-mass-2017/
LOCATION:Saint John the Baptist Cathedral\, 381 Grand Street\, Paterson\, NJ\, 07505\, United States
CATEGORIES:Outside Events
END:VEVENT
BEGIN:VEVENT
DTSTART;TZID=America/New_York:20171117T200000
DTEND;TZID=America/New_York:20171117T220000
DTSTAMP:20260425T075230
CREATED:20171028T213640Z
LAST-MODIFIED:20171028T213640Z
UID:1583-1510948800-1510956000@kofc6343.org
SUMMARY:Paterson Federation Meeting
DESCRIPTION:
URL:https://kofc6343.org/event/paterson-federation-meeting-2/
LOCATION:St. Anthony’s Knights of Columbus Hall\, 65 Hamburg Turnpike\, Butler\, NJ\, 07405\, United States
CATEGORIES:Outside Events
END:VEVENT
BEGIN:VEVENT
DTSTART;TZID=America/New_York:20171113T200000
DTEND;TZID=America/New_York:20171113T220000
DTSTAMP:20260425T075230
CREATED:20171106T191244Z
LAST-MODIFIED:20171106T191244Z
UID:1596-1510603200-1510610400@kofc6343.org
SUMMARY:Fourth Degree Meeting
DESCRIPTION:
URL:https://kofc6343.org/event/fourth-degree-meeting-4/
LOCATION:Our Lady Queen of Peace\, 1911 Union Valley Road\, West Milford\, NJ\, 07480\, United States
CATEGORIES:Assembly Events
END:VEVENT
BEGIN:VEVENT
DTSTART;TZID=America/New_York:20171112T090000
DTEND;TZID=America/New_York:20171112T100000
DTSTAMP:20260425T075230
CREATED:20171028T213505Z
LAST-MODIFIED:20171028T213530Z
UID:1581-1510477200-1510480800@kofc6343.org
SUMMARY:Living Veterans Appreciation Mass
DESCRIPTION:
URL:https://kofc6343.org/event/living-veterans-appreciation-mass-2017/
LOCATION:Church\, 454 Germantown Road\, West Milford\, NJ\, 07480\, United States
CATEGORIES:Veterans Support
END:VEVENT
BEGIN:VEVENT
DTSTART;TZID=America/New_York:20171109T200000
DTEND;TZID=America/New_York:20171109T220000
DTSTAMP:20260425T075230
CREATED:20171016T204148Z
LAST-MODIFIED:20171016T204148Z
UID:1561-1510257600-1510264800@kofc6343.org
SUMMARY:Business Meeting
DESCRIPTION:
URL:https://kofc6343.org/event/business-meeting-19/
LOCATION:Koch Hall\, 454 Germantown Road\, West Milford\, NJ\, 07480\, United States
CATEGORIES:Business Meetings
END:VEVENT
BEGIN:VEVENT
DTSTART;TZID=America/New_York:20171109T193000
DTEND;TZID=America/New_York:20171109T200000
DTSTAMP:20260425T075230
CREATED:20171028T213214Z
LAST-MODIFIED:20171028T213214Z
UID:1579-1510255800-1510257600@kofc6343.org
SUMMARY:Officers Meeting
DESCRIPTION:
URL:https://kofc6343.org/event/officers-meeting-5/
LOCATION:Koch Hall\, 454 Germantown Road\, West Milford\, NJ\, 07480\, United States
CATEGORIES:Officers Meeting
END:VEVENT
BEGIN:VEVENT
DTSTART;TZID=America/New_York:20171104T090000
DTEND;TZID=America/New_York:20171104T170000
DTSTAMP:20260425T075230
CREATED:20171017T155134Z
LAST-MODIFIED:20171017T155134Z
UID:1571-1509786000-1509814800@kofc6343.org
SUMMARY:Faith in Action
DESCRIPTION:The fall “Faith in Action” will be on Nov 4th. It is a bit different from the spring FIA. \nAll the volunteers will meet at the Echo Lake Baptist Church on SATURDAY 11/4 at 9:00 AM. There will be a prayer service and breakfast will be served. The teams will leave for their assigned projects from the church. Once you have completed your project\, you go home. Virtually all the projects will be yard cleanups. \nThere will also be people assigned to “Prayer Teams” Their assignments will be to meet with the home owners for conversation and prayers. Remember\, we are doing for people who cannot do for themselves\, so prayer and a little conversation can be very important. Volunteering for a prayer team is an excellent way to be involved for those who cannot do the physical cleanups. Either way\, this is a great opportunity to live the Christian faith. \nThere are optional “hoodies” available. These are quality orange pullover sweatshirts with a hood and the “Faith in Action” logo printed on the back. Small to extra large are $22.00 and XXL is $24.00. If you want the sweatshirt\, please place your order right away. Either E-Mail me at lhwhite@optonline.net or contact the office. You can pay when the shirts come in. The orders must be in by 10/18. \nAlso\, if you know of someone who is physically unable to do their own cleanup and would like help please let the office know or contact me at the above E-Mail. \nVolunteer signups for cleanup and prayer teams will be available after each mass the weekend of 10/21\,22. \nIf you have any questions please do not hesitate to contact me. \n\n God bless\,\n Deacon Harry
URL:https://kofc6343.org/event/faith-in-action/
LOCATION:Echo Lake Baptist Church\, 1355 Macopin Rd\, West Milford\, NJ\, 07480\, United States
ORGANIZER;CN="Harry White":MAILTO:lhwhite@optonline.net
END:VEVENT
BEGIN:VEVENT
DTSTART;TZID=America/New_York:20171104T080000
DTEND;TZID=America/New_York:20171104T160000
DTSTAMP:20260425T075230
CREATED:20171016T164729Z
LAST-MODIFIED:20171016T164729Z
UID:1553-1509782400-1509811200@kofc6343.org
SUMMARY:Fall Food Drive
DESCRIPTION:[maxbutton id=”2″]
URL:https://kofc6343.org/event/fall-food-drive/
LOCATION:Stop and Shop\, Kinnelon\, 25 Kinnelon Road\, Kinnelon\, NJ\, 07405\, United States
CATEGORIES:Council Events
ORGANIZER;CN="Monty Dellapi":MAILTO:monty.dellapi@orbitalatk.com
END:VEVENT
BEGIN:VEVENT
DTSTART;TZID=America/New_York:20171027T190000
DTEND;TZID=America/New_York:20171027T220000
DTSTAMP:20260425T075230
CREATED:20171016T202926Z
LAST-MODIFIED:20171016T202926Z
UID:1559-1509130800-1509141600@kofc6343.org
SUMMARY:3rd Degree Ceremony
DESCRIPTION:
URL:https://kofc6343.org/event/3rd-degree-ceremony-3/
LOCATION:Parish Center\, 454 Germantown Road\, West Milford\, NJ\, 07480\, United States
CATEGORIES:Degree Ceremonies
END:VEVENT
BEGIN:VEVENT
DTSTART;TZID=America/New_York:20171026T190000
DTEND;TZID=America/New_York:20171026T220000
DTSTAMP:20260425T075230
CREATED:20171016T202847Z
LAST-MODIFIED:20171016T202847Z
UID:1557-1509044400-1509055200@kofc6343.org
SUMMARY:1st & 2nd Degree Ceremony
DESCRIPTION:
URL:https://kofc6343.org/event/1st-2nd-degree-ceremony-3/
LOCATION:Koch Hall\, 454 Germantown Road\, West Milford\, NJ\, 07480\, United States
CATEGORIES:Degree Ceremonies
END:VEVENT
BEGIN:VEVENT
DTSTART;TZID=America/New_York:20171019T190000
DTEND;TZID=America/New_York:20171019T210000
DTSTAMP:20260425T075230
CREATED:20171016T202742Z
LAST-MODIFIED:20171016T202742Z
UID:1555-1508439600-1508446800@kofc6343.org
SUMMARY:Degree Team Practice
DESCRIPTION:
URL:https://kofc6343.org/event/degree-team-practice-5/
LOCATION:Koch Hall\, 454 Germantown Road\, West Milford\, NJ\, 07480\, United States
CATEGORIES:Committee and Team Meetings
END:VEVENT
BEGIN:VEVENT
DTSTART;TZID=America/New_York:20170916T193000
DTEND;TZID=America/New_York:20170916T220000
DTSTAMP:20260425T075230
CREATED:20170911T033547Z
LAST-MODIFIED:20170911T033547Z
UID:1537-1505590200-1505599200@kofc6343.org
SUMMARY:Installation Dinner
DESCRIPTION:
URL:https://kofc6343.org/event/installation-dinner/
LOCATION:Lina’s Restaurant\, 49 Main Street\, Bloomingdale\, NJ\, 07403\, United States
CATEGORIES:Council Events
END:VEVENT
BEGIN:VEVENT
DTSTART;TZID=America/New_York:20170916T180000
DTEND;TZID=America/New_York:20170916T190000
DTSTAMP:20260425T075230
CREATED:20170911T033432Z
LAST-MODIFIED:20170911T033432Z
UID:1535-1505584800-1505588400@kofc6343.org
SUMMARY:Installation of Officers
DESCRIPTION:
URL:https://kofc6343.org/event/installation-of-officers/
LOCATION:Church\, 454 Germantown Road\, West Milford\, NJ\, 07480\, United States
CATEGORIES:Council Events
END:VEVENT
BEGIN:VEVENT
DTSTART;TZID=America/New_York:20170916T120000
DTEND;TZID=America/New_York:20170916T160000
DTSTAMP:20260425T075230
CREATED:20170911T034230Z
LAST-MODIFIED:20170911T034230Z
UID:1539-1505563200-1505577600@kofc6343.org
SUMMARY:Soccer Challenge
DESCRIPTION:The Knights of Columbus is conducting its annual Soccer Challenge for boys and girls ages 9 to 14.  It will take place on Saturday\, September 26\, 2015 from 12:00 pm to 2:00 pm at Farrell Field 3\, 43 Lycosky Rd\, West Milford\, NJ 07480. All children in the age range are welcome to attend. The District challenge will follow from 2:00 pm to 4:00 pm
URL:https://kofc6343.org/event/soccer-challenge-2/
LOCATION:Farrell Field Complex\, 43 Lycosky Rd\, West Milford\, NJ\, 07480\, United States
CATEGORIES:Contests
END:VEVENT
END:VCALENDAR