BEGIN:VCALENDAR
VERSION:2.0
PRODID:-//Fr. Francis Koch Council 6343 - ECPv6.15.20//NONSGML v1.0//EN
CALSCALE:GREGORIAN
METHOD:PUBLISH
X-WR-CALNAME:Fr. Francis Koch Council 6343
X-ORIGINAL-URL:https://kofc6343.org
X-WR-CALDESC:Events for Fr. Francis Koch Council 6343
REFRESH-INTERVAL;VALUE=DURATION:PT1H
X-Robots-Tag:noindex
X-PUBLISHED-TTL:PT1H
BEGIN:VTIMEZONE
TZID:America/New_York
BEGIN:DAYLIGHT
TZOFFSETFROM:-0500
TZOFFSETTO:-0400
TZNAME:EDT
DTSTART:20240310T070000
END:DAYLIGHT
BEGIN:STANDARD
TZOFFSETFROM:-0400
TZOFFSETTO:-0500
TZNAME:EST
DTSTART:20241103T060000
END:STANDARD
BEGIN:DAYLIGHT
TZOFFSETFROM:-0500
TZOFFSETTO:-0400
TZNAME:EDT
DTSTART:20250309T070000
END:DAYLIGHT
BEGIN:STANDARD
TZOFFSETFROM:-0400
TZOFFSETTO:-0500
TZNAME:EST
DTSTART:20251102T060000
END:STANDARD
BEGIN:DAYLIGHT
TZOFFSETFROM:-0500
TZOFFSETTO:-0400
TZNAME:EDT
DTSTART:20260308T070000
END:DAYLIGHT
BEGIN:STANDARD
TZOFFSETFROM:-0400
TZOFFSETTO:-0500
TZNAME:EST
DTSTART:20261101T060000
END:STANDARD
BEGIN:DAYLIGHT
TZOFFSETFROM:-0500
TZOFFSETTO:-0400
TZNAME:EDT
DTSTART:20270314T070000
END:DAYLIGHT
BEGIN:STANDARD
TZOFFSETFROM:-0400
TZOFFSETTO:-0500
TZNAME:EST
DTSTART:20271107T060000
END:STANDARD
END:VTIMEZONE
BEGIN:VEVENT
DTSTART;TZID=America/New_York:20260122T190000
DTEND;TZID=America/New_York:20260122T213000
DTSTAMP:20260423T090400
CREATED:20250717T162015Z
LAST-MODIFIED:20260121T154128Z
UID:8409-1769108400-1769117400@kofc6343.org
SUMMARY:January 2026 Social Meeting
DESCRIPTION:
URL:https://kofc6343.org/event/january-2026-social-meeting/
LOCATION:Koch Hall\, 454 Germantown Road\, West Milford\, NJ\, 07480\, United States
CATEGORIES:Social Meetings
ORGANIZER;CN="Brian Blakely":MAILTO:brian.michael.blakely@gmail.com
END:VEVENT
BEGIN:VEVENT
DTSTART;TZID=America/New_York:20260117T190000
DTEND;TZID=America/New_York:20260117T220000
DTSTAMP:20260423T090400
CREATED:20260115T155509Z
LAST-MODIFIED:20260115T155509Z
UID:9366-1768676400-1768687200@kofc6343.org
SUMMARY:2026 Past Grand Knight's Dinner
DESCRIPTION:
URL:https://kofc6343.org/event/2026-past-grand-knights-dinner/
LOCATION:Buonasera Restaurant\, 1574 NJ-23\, Butler\, NJ\, 07405\, United States
CATEGORIES:Council Events
END:VEVENT
BEGIN:VEVENT
DTSTART;TZID=America/New_York:20260117T180000
DTEND;TZID=America/New_York:20260117T183000
DTSTAMP:20260423T090400
CREATED:20260115T155032Z
LAST-MODIFIED:20260115T155032Z
UID:9364-1768672800-1768674600@kofc6343.org
SUMMARY:2026 Officer Installation
DESCRIPTION:Ceremony for all council members. The elected officers of our council will be formally appointed. Held immediately after 5PM vigil mass in St. Joseph Church. Anyone who can make it should attend mass\, wherein the Knights sit in a group\, with their wives (if attending) in another group behind them.
URL:https://kofc6343.org/event/2026-officer-installation/
LOCATION:Church\, 454 Germantown Road\, West Milford\, NJ\, 07480\, United States
CATEGORIES:Council Events
END:VEVENT
BEGIN:VEVENT
DTSTART;TZID=America/New_York:20260112T193000
DTEND;TZID=America/New_York:20260112T210000
DTSTAMP:20260423T090400
CREATED:20251230T221243Z
LAST-MODIFIED:20251230T221243Z
UID:8974-1768246200-1768251600@kofc6343.org
SUMMARY:Fourth Degree Meeting
DESCRIPTION:
URL:https://kofc6343.org/event/fourth-degree-meeting-8-2-3-2-2/
LOCATION:Immaculate Heart of Mary\, 580 Ratzer Road\, Wayne\, NJ\, 07470\, United States
CATEGORIES:Assembly Events
END:VEVENT
BEGIN:VEVENT
DTSTART;TZID=America/New_York:20260108T200000
DTEND;TZID=America/New_York:20260108T213000
DTSTAMP:20260423T090400
CREATED:20250716T163537Z
LAST-MODIFIED:20250716T163537Z
UID:8378-1767902400-1767907800@kofc6343.org
SUMMARY:January 2026 Business Meeting
DESCRIPTION:
URL:https://kofc6343.org/event/january-2026-business-meeting/
LOCATION:Koch Hall\, 454 Germantown Road\, West Milford\, NJ\, 07480\, United States
CATEGORIES:Business Meetings
ORGANIZER;CN="Brian Blakely":MAILTO:brian.michael.blakely@gmail.com
END:VEVENT
BEGIN:VEVENT
DTSTART;TZID=America/New_York:20260101T000000
DTEND;TZID=America/New_York:20260101T235959
DTSTAMP:20260423T090400
CREATED:20251118T162223Z
LAST-MODIFIED:20251118T162223Z
UID:8958-1767225600-1767311999@kofc6343.org
SUMMARY:New Year's Day
DESCRIPTION:
URL:https://kofc6343.org/event/new-years-day-3/
LOCATION:NJ
CATEGORIES:Holidays
END:VEVENT
BEGIN:VEVENT
DTSTART;TZID=America/New_York:20251225T000000
DTEND;TZID=America/New_York:20251225T235959
DTSTAMP:20260423T090400
CREATED:20251118T162138Z
LAST-MODIFIED:20251118T162138Z
UID:8956-1766620800-1766707199@kofc6343.org
SUMMARY:Christmas
DESCRIPTION:
URL:https://kofc6343.org/event/christmas/
LOCATION:NJ
CATEGORIES:Holidays
END:VEVENT
BEGIN:VEVENT
DTSTART;TZID=America/New_York:20251221T080000
DTEND;TZID=America/New_York:20251221T140000
DTSTAMP:20260423T090400
CREATED:20251215T200911Z
LAST-MODIFIED:20251215T200911Z
UID:9352-1766304000-1766325600@kofc6343.org
SUMMARY:Christmas Spectacular: Pancake Breakfast\, Santa Visit & Christmas Shoppe
DESCRIPTION:Raising money for the community and the council\, while bringing some joy to the children.
URL:https://kofc6343.org/event/christmas-spectacular-pancake-breakfast-santa-visit-christmas-shoppe/
LOCATION:Parish Center\, 454 Germantown Road\, West Milford\, NJ\, 07480\, United States
END:VEVENT
BEGIN:VEVENT
DTSTART;TZID=America/New_York:20251220T130000
DTEND;TZID=America/New_York:20251220T160000
DTSTAMP:20260423T090400
CREATED:20251215T200632Z
LAST-MODIFIED:20251215T201538Z
UID:9350-1766235600-1766246400@kofc6343.org
SUMMARY:Pancake Breakfast Setup
DESCRIPTION:Setting up the Christmas Spectacular: Pancake Breakfast\, Santa Visit & Christmas Shoppe
URL:https://kofc6343.org/event/2025-12-pancake-setup/
LOCATION:Parish Center\, 454 Germantown Road\, West Milford\, NJ\, 07480\, United States
END:VEVENT
BEGIN:VEVENT
DTSTART;TZID=America/New_York:20251217T180000
DTEND;TZID=America/New_York:20251217T193000
DTSTAMP:20260423T090400
CREATED:20251215T201503Z
LAST-MODIFIED:20251215T201503Z
UID:9356-1765994400-1765999800@kofc6343.org
SUMMARY:Bingo Hardware Test Pt. 2
DESCRIPTION:Testing and conducting minor repairs to the bingo board hardware.
URL:https://kofc6343.org/event/bingo-hardware-test-pt-2/
LOCATION:Parish Center\, 454 Germantown Road\, West Milford\, NJ\, 07480\, United States
END:VEVENT
BEGIN:VEVENT
DTSTART;TZID=America/New_York:20251211T200000
DTEND;TZID=America/New_York:20251211T213000
DTSTAMP:20260423T090400
CREATED:20250716T163350Z
LAST-MODIFIED:20250716T163350Z
UID:8376-1765483200-1765488600@kofc6343.org
SUMMARY:December 2025 Business Meeting
DESCRIPTION:
URL:https://kofc6343.org/event/december-2025-business-meeting/
LOCATION:Koch Hall\, 454 Germantown Road\, West Milford\, NJ\, 07480\, United States
CATEGORIES:Business Meetings
ORGANIZER;CN="Brian Blakely":MAILTO:brian.michael.blakely@gmail.com
END:VEVENT
BEGIN:VEVENT
DTSTART;TZID=America/New_York:20251208T193000
DTEND;TZID=America/New_York:20251208T210000
DTSTAMP:20260423T090400
CREATED:20251118T162529Z
LAST-MODIFIED:20251118T165336Z
UID:8960-1765222200-1765227600@kofc6343.org
SUMMARY:Fourth Degree Meeting
DESCRIPTION:
URL:https://kofc6343.org/event/fourth-degree-meeting-7/
LOCATION:Koch Hall\, 454 Germantown Road\, West Milford\, NJ\, 07480\, United States
CATEGORIES:Assembly Events
END:VEVENT
BEGIN:VEVENT
DTSTART;TZID=America/New_York:20251207T090000
DTEND;TZID=America/New_York:20251207T113000
DTSTAMP:20260423T090400
CREATED:20251215T200257Z
LAST-MODIFIED:20251215T200257Z
UID:9348-1765098000-1765107000@kofc6343.org
SUMMARY:Vet Hospital Visit
DESCRIPTION:Helping disabled veterans attend Mass and receive Communion.
URL:https://kofc6343.org/event/vet-hospital-visit/
LOCATION:NJ
END:VEVENT
BEGIN:VEVENT
DTSTART;TZID=America/New_York:20251127T000000
DTEND;TZID=America/New_York:20251127T235959
DTSTAMP:20260423T090400
CREATED:20251118T161952Z
LAST-MODIFIED:20251118T162011Z
UID:8954-1764201600-1764287999@kofc6343.org
SUMMARY:Thanksgiving
DESCRIPTION:
URL:https://kofc6343.org/event/thanksgiving-3/
LOCATION:NJ
CATEGORIES:Holidays
END:VEVENT
BEGIN:VEVENT
DTSTART;TZID=America/New_York:20251124T180000
DTEND;TZID=America/New_York:20251124T210000
DTSTAMP:20260423T090400
CREATED:20250910T200457Z
LAST-MODIFIED:20251118T161447Z
UID:8452-1764007200-1764018000@kofc6343.org
SUMMARY:Pride in Our Priests Dinner
DESCRIPTION:
URL:https://kofc6343.org/event/pride-in-our-priests-dinner/
LOCATION:The Hanover Manor\, 16 Eagle Rock Ave\, East Hanover\, NJ\, 07936
CATEGORIES:Paterson Federation Event
END:VEVENT
BEGIN:VEVENT
DTSTART;TZID=America/New_York:20251117T150000
DTEND;TZID=America/New_York:20251117T190000
DTSTAMP:20260423T090400
CREATED:20251113T025804Z
LAST-MODIFIED:20251118T161515Z
UID:8482-1763391600-1763406000@kofc6343.org
SUMMARY:Paying Respects for Brother Joseph Lore
DESCRIPTION:Wake being held at Richards Funeral Home in West Milford.
URL:https://kofc6343.org/event/paying-respects-for-brother-joseph-lore/
LOCATION:Richards Funeral Home\, 1440 Union Valley Rd\, West Milford\, NJ\, 07480\, United States
CATEGORIES:Council Events
END:VEVENT
BEGIN:VEVENT
DTSTART;TZID=America/New_York:20251116T133000
DTEND;TZID=America/New_York:20251116T153000
DTSTAMP:20260423T090400
CREATED:20251011T005503Z
LAST-MODIFIED:20251011T005503Z
UID:8468-1763299800-1763307000@kofc6343.org
SUMMARY:St. Joseph's Parish 260th Anniversary
DESCRIPTION:Banquet luncheon\, must RSVP. 
URL:https://kofc6343.org/event/st-josephs-parish-260th-anniversary/
LOCATION:Parish Center\, 454 Germantown Road\, West Milford\, NJ\, 07480\, United States
CATEGORIES:Parish Events
END:VEVENT
BEGIN:VEVENT
DTSTART;TZID=America/New_York:20251113T200000
DTEND;TZID=America/New_York:20251113T213000
DTSTAMP:20260423T090400
CREATED:20250716T163220Z
LAST-MODIFIED:20250716T163220Z
UID:8374-1763064000-1763069400@kofc6343.org
SUMMARY:November 2025 Business Meeting
DESCRIPTION:
URL:https://kofc6343.org/event/november-2025-business-meeting/
LOCATION:Koch Hall\, 454 Germantown Road\, West Milford\, NJ\, 07480\, United States
CATEGORIES:Business Meetings
ORGANIZER;CN="Brian Blakely":MAILTO:brian.michael.blakely@gmail.com
END:VEVENT
BEGIN:VEVENT
DTSTART;TZID=America/New_York:20251020T190000
DTEND;TZID=America/New_York:20251020T210000
DTSTAMP:20260423T090400
CREATED:20250925T160539Z
LAST-MODIFIED:20251017T171551Z
UID:8464-1760986800-1760994000@kofc6343.org
SUMMARY:CUF Degree Ceremony
DESCRIPTION:A formal ceremony\, welcoming and celebrating several of our council’s new members. Coffee and pastry afterward.
URL:https://kofc6343.org/event/cuf-degree-ceremony/
LOCATION:Koch Hall\, 454 Germantown Road\, West Milford\, NJ\, 07480\, United States
END:VEVENT
BEGIN:VEVENT
DTSTART;TZID=America/New_York:20251009T200000
DTEND;TZID=America/New_York:20251009T213000
DTSTAMP:20260423T090400
CREATED:20250716T163045Z
LAST-MODIFIED:20250716T163045Z
UID:8372-1760040000-1760045400@kofc6343.org
SUMMARY:October 2025 Business Meeting
DESCRIPTION:
URL:https://kofc6343.org/event/october-2025-business-meeting/
LOCATION:Koch Hall\, 454 Germantown Road\, West Milford\, NJ\, 07480\, United States
CATEGORIES:Business Meetings
ORGANIZER;CN="Brian Blakely":MAILTO:brian.michael.blakely@gmail.com
END:VEVENT
BEGIN:VEVENT
DTSTART;TZID=America/New_York:20250928T090000
DTEND;TZID=America/New_York:20250928T150000
DTSTAMP:20260423T090400
CREATED:20250717T154638Z
LAST-MODIFIED:20250925T151842Z
UID:8395-1759050000-1759071600@kofc6343.org
SUMMARY:(Rain Date) Car Show
DESCRIPTION:
URL:https://kofc6343.org/event/2025-car-show-2/
LOCATION:Bubbling Springs Park\, 1468 Macopin Rd\, West Milford\, NJ\, 07480\, United States
CATEGORIES:Outside Events
END:VEVENT
BEGIN:VEVENT
DTSTART;TZID=America/New_York:20250927T090000
DTEND;TZID=America/New_York:20250927T150000
DTSTAMP:20260423T090400
CREATED:20250717T154559Z
LAST-MODIFIED:20250925T151823Z
UID:8392-1758963600-1758985200@kofc6343.org
SUMMARY:Car Show
DESCRIPTION:
URL:https://kofc6343.org/event/2025-car-show/
LOCATION:Bubbling Springs Park\, 1468 Macopin Rd\, West Milford\, NJ\, 07480\, United States
CATEGORIES:Outside Events
END:VEVENT
BEGIN:VEVENT
DTSTART;TZID=America/New_York:20250926T180000
DTEND;TZID=America/New_York:20250926T190000
DTSTAMP:20260423T090400
CREATED:20250925T151645Z
LAST-MODIFIED:20250925T151645Z
UID:8462-1758909600-1758913200@kofc6343.org
SUMMARY:Car Show Setup
DESCRIPTION:
URL:https://kofc6343.org/event/car-show-setup/
LOCATION:Bubbling Springs Park\, 1468 Macopin Rd\, West Milford\, NJ\, 07480\, United States
END:VEVENT
BEGIN:VEVENT
DTSTART;TZID=America/New_York:20250925T190000
DTEND;TZID=America/New_York:20250925T213000
DTSTAMP:20260423T090400
CREATED:20250717T161122Z
LAST-MODIFIED:20250925T151444Z
UID:8401-1758826800-1758835800@kofc6343.org
SUMMARY:September 2025 Social Meeting
DESCRIPTION:
URL:https://kofc6343.org/event/september-2025-social-meeting/
LOCATION:Koch Hall\, 454 Germantown Road\, West Milford\, NJ\, 07480\, United States
CATEGORIES:Social Meetings
ORGANIZER;CN="Brian Blakely":MAILTO:brian.michael.blakely@gmail.com
END:VEVENT
BEGIN:VEVENT
DTSTART;TZID=America/New_York:20250914T130000
DTEND;TZID=America/New_York:20250914T160000
DTSTAMP:20260423T090400
CREATED:20250717T154949Z
LAST-MODIFIED:20250717T154949Z
UID:8397-1757854800-1757865600@kofc6343.org
SUMMARY:Parish Picnic
DESCRIPTION:
URL:https://kofc6343.org/event/parish-picnic/
LOCATION:Church\, 454 Germantown Road\, West Milford\, NJ\, 07480\, United States
CATEGORIES:Parish Events
END:VEVENT
BEGIN:VEVENT
DTSTART;TZID=America/New_York:20250913T170000
DTEND;TZID=America/New_York:20250913T190000
DTSTAMP:20260423T090400
CREATED:20250823T234649Z
LAST-MODIFIED:20250910T195228Z
UID:8430-1757782800-1757790000@kofc6343.org
SUMMARY:Fatima Mass
DESCRIPTION:If you would like to participate and can’t make it to 5pm mass\, the Fatima procession will begin after that mass. Therefore\, if you can make it by around 5:45\, you’re still good.
URL:https://kofc6343.org/event/fatima-mass-2/
LOCATION:Church\, 454 Germantown Road\, West Milford\, NJ\, 07480\, United States
END:VEVENT
BEGIN:VEVENT
DTSTART;TZID=America/New_York:20250913T150000
DTEND;TZID=America/New_York:20250913T170000
DTSTAMP:20260423T090400
CREATED:20250910T194842Z
LAST-MODIFIED:20250910T194842Z
UID:8446-1757775600-1757782800@kofc6343.org
SUMMARY:Setup Parish Picnic
DESCRIPTION:
URL:https://kofc6343.org/event/setup-parish-picnic/
LOCATION:Church\, 454 Germantown Road\, West Milford\, NJ\, 07480\, United States
END:VEVENT
BEGIN:VEVENT
DTSTART;TZID=America/New_York:20250911T200000
DTEND;TZID=America/New_York:20250911T213000
DTSTAMP:20260423T090400
CREATED:20250716T162732Z
LAST-MODIFIED:20250716T162732Z
UID:8370-1757620800-1757626200@kofc6343.org
SUMMARY:September 2025 Business Meeting
DESCRIPTION:
URL:https://kofc6343.org/event/september-2025-business-meeting/
LOCATION:Koch Hall\, 454 Germantown Road\, West Milford\, NJ\, 07480\, United States
CATEGORIES:Business Meetings
ORGANIZER;CN="Brian Blakely":MAILTO:brian.michael.blakely@gmail.com
END:VEVENT
BEGIN:VEVENT
DTSTART;TZID=America/New_York:20250907T090000
DTEND;TZID=America/New_York:20250907T130000
DTSTAMP:20260423T090400
CREATED:20250823T235102Z
LAST-MODIFIED:20250823T235102Z
UID:8432-1757235600-1757250000@kofc6343.org
SUMMARY:VA Hospital Volunteer Mass
DESCRIPTION:
URL:https://kofc6343.org/event/va-hospital-volunteer-mass/
LOCATION:NJ
END:VEVENT
BEGIN:VEVENT
DTSTART;TZID=America/New_York:20250828T190000
DTEND;TZID=America/New_York:20250828T213000
DTSTAMP:20260423T090400
CREATED:20250717T160823Z
LAST-MODIFIED:20250824T184806Z
UID:8399-1756407600-1756416600@kofc6343.org
SUMMARY:August 2025 Social Meeting
DESCRIPTION:
URL:https://kofc6343.org/event/august-2025-social-meeting/
LOCATION:Old School Pub & Grill\, 551 Warwick Turnpike\, West Milford\, NJ\, 07421\, United States
CATEGORIES:Social Meetings
ORGANIZER;CN="Brian Blakely":MAILTO:brian.michael.blakely@gmail.com
END:VEVENT
END:VCALENDAR